<?xml version="1.0" encoding="UTF-8"?>
<Capabilities xmlns="http://www.opengis.net/wmts/1.0"
xmlns:ows="http://www.opengis.net/ows/1.1"
xmlns:xlink="http://www.w3.org/1999/xlink"
xmlns:xsi="http://www.w3.org/2001/XMLSchema-instance"
xmlns:gml="http://www.opengis.net/gml"
xsi:schemaLocation="http://www.opengis.net/wmts/1.0 http://schemas.opengis.net/wmts/1.0/wmtsGetCapabilities_response.xsd"
version="1.0.0">
<!-- Service Identification --> <ows:ServiceIdentification>
<ows:Title>BaseMaps_BaseMappingWMS_2</ows:Title>
<ows:ServiceType>OGC WMTS</ows:ServiceType>
<ows:ServiceTypeVersion>1.0.0</ows:ServiceTypeVersion>
</ows:ServiceIdentification> <!-- Operations Metadata --> <ows:OperationsMetadata>
<ows:Operation name="GetCapabilities">
<ows:DCP>
<ows:HTTP>
<ows:Get xlink:href="https://map-services.hambleton.gov.uk/arcgis/rest/services/BaseMaps/BaseMappingWMS_2/MapServer/WMTS/1.0.0/WMTSCapabilities.xml">
<ows:Constraint name="GetEncoding">
<ows:AllowedValues>
<ows:Value>RESTful</ows:Value>
</ows:AllowedValues>
</ows:Constraint>
</ows:Get>
<!-- add KVP binding in 10.1 -->
<ows:Get xlink:href="https://map-services.hambleton.gov.uk/arcgis/rest/services/BaseMaps/BaseMappingWMS_2/MapServer/WMTS?">
<ows:Constraint name="GetEncoding">
<ows:AllowedValues>
<ows:Value>KVP</ows:Value>
</ows:AllowedValues>
</ows:Constraint>
</ows:Get>
</ows:HTTP>
</ows:DCP>
</ows:Operation>
<ows:Operation name="GetTile">
<ows:DCP>
<ows:HTTP>
<ows:Get xlink:href="https://map-services.hambleton.gov.uk/arcgis/rest/services/BaseMaps/BaseMappingWMS_2/MapServer/WMTS/tile/1.0.0/">
<ows:Constraint name="GetEncoding">
<ows:AllowedValues>
<ows:Value>RESTful</ows:Value>
</ows:AllowedValues>
</ows:Constraint>
</ows:Get>
<ows:Get xlink:href="https://map-services.hambleton.gov.uk/arcgis/rest/services/BaseMaps/BaseMappingWMS_2/MapServer/WMTS?">
<ows:Constraint name="GetEncoding">
<ows:AllowedValues>
<ows:Value>KVP</ows:Value>
</ows:AllowedValues>
</ows:Constraint>
</ows:Get>
</ows:HTTP>
</ows:DCP>
</ows:Operation>
</ows:OperationsMetadata> <Contents>
<!--Layer--> <Layer>
<ows:Title>BaseMaps_BaseMappingWMS_2</ows:Title> <ows:Identifier>BaseMaps_BaseMappingWMS_2</ows:Identifier>
<ows:BoundingBox crs="urn:ogc:def:crs:EPSG::27700">
<ows:LowerCorner>-12.5 0.0</ows:LowerCorner>
<ows:UpperCorner>700000.0 1300012.5</ows:UpperCorner>
</ows:BoundingBox> <ows:WGS84BoundingBox crs="urn:ogc:def:crs:OGC:2:84">
<ows:LowerCorner>-9.49664544045268 49.76617749909549</ows:LowerCorner>
<ows:UpperCorner>3.634764469242036 61.58179152577527</ows:UpperCorner>
</ows:WGS84BoundingBox>
<Style isDefault="true">
<ows:Title>Default Style</ows:Title>
<ows:Identifier>default</ows:Identifier>
</Style>
<Format>image/png</Format>
<TileMatrixSetLink>
<TileMatrixSet>default028mm</TileMatrixSet>
</TileMatrixSetLink>
<ResourceURL format="image/png" resourceType="tile" template="https://map-services.hambleton.gov.uk/arcgis/rest/services/BaseMaps/BaseMappingWMS_2/MapServer/WMTS/tile/1.0.0/BaseMaps_BaseMappingWMS_2/{Style}/{TileMatrixSet}/{TileMatrix}/{TileRow}/{TileCol}.png" />
</Layer> <!--TileMatrixSet-->
<TileMatrixSet>
<ows:Title>TileMatrix using 0.28mm</ows:Title>
<ows:Abstract>The tile matrix set that has scale values calculated based on the dpi defined by OGC specification (dpi assumes 0.28mm as the physical distance of a pixel).</ows:Abstract> <ows:Identifier>default028mm</ows:Identifier>
<ows:SupportedCRS>urn:ogc:def:crs:EPSG::27700</ows:SupportedCRS>
<TileMatrix>
<ows:Identifier>0</ows:Identifier>
<ScaleDenominator>472471.18303754483</ScaleDenominator>
<TopLeftCorner>-5220400.0 4470200.0</TopLeftCorner> <TileWidth>256</TileWidth> <TileHeight>256</TileHeight>
<MatrixWidth>175</MatrixWidth> <MatrixHeight>132</MatrixHeight>
</TileMatrix>
<TileMatrix>
<ows:Identifier>1</ows:Identifier>
<ScaleDenominator>236235.59151877242</ScaleDenominator>
<TopLeftCorner>-5220400.0 4470200.0</TopLeftCorner> <TileWidth>256</TileWidth> <TileHeight>256</TileHeight>
<MatrixWidth>350</MatrixWidth> <MatrixHeight>264</MatrixHeight>
</TileMatrix>
<TileMatrix>
<ows:Identifier>2</ows:Identifier>
<ScaleDenominator>118117.79575938621</ScaleDenominator>
<TopLeftCorner>-5220400.0 4470200.0</TopLeftCorner> <TileWidth>256</TileWidth> <TileHeight>256</TileHeight>
<MatrixWidth>700</MatrixWidth> <MatrixHeight>528</MatrixHeight>
</TileMatrix>
<TileMatrix>
<ows:Identifier>3</ows:Identifier>
<ScaleDenominator>60476.31142880573</ScaleDenominator>
<TopLeftCorner>-5220400.0 4470200.0</TopLeftCorner> <TileWidth>256</TileWidth> <TileHeight>256</TileHeight>
<MatrixWidth>1366</MatrixWidth> <MatrixHeight>1032</MatrixHeight>
</TileMatrix>
<TileMatrix>
<ows:Identifier>4</ows:Identifier>
<ScaleDenominator>30238.155714402867</ScaleDenominator>
<TopLeftCorner>-5220400.0 4470200.0</TopLeftCorner> <TileWidth>256</TileWidth> <TileHeight>256</TileHeight>
<MatrixWidth>2732</MatrixWidth> <MatrixHeight>2063</MatrixHeight>
</TileMatrix>
<TileMatrix>
<ows:Identifier>5</ows:Identifier>
<ScaleDenominator>15119.077857201433</ScaleDenominator>
<TopLeftCorner>-5220400.0 4470200.0</TopLeftCorner> <TileWidth>256</TileWidth> <TileHeight>256</TileHeight>
<MatrixWidth>5463</MatrixWidth> <MatrixHeight>4125</MatrixHeight>
</TileMatrix>
<TileMatrix>
<ows:Identifier>6</ows:Identifier>
<ScaleDenominator>7559.538928600717</ScaleDenominator>
<TopLeftCorner>-5220400.0 4470200.0</TopLeftCorner> <TileWidth>256</TileWidth> <TileHeight>256</TileHeight>
<MatrixWidth>10926</MatrixWidth> <MatrixHeight>8250</MatrixHeight>
</TileMatrix>
<TileMatrix>
<ows:Identifier>7</ows:Identifier>
<ScaleDenominator>3779.7694643003583</ScaleDenominator>
<TopLeftCorner>-5220400.0 4470200.0</TopLeftCorner> <TileWidth>256</TileWidth> <TileHeight>256</TileHeight>
<MatrixWidth>21852</MatrixWidth> <MatrixHeight>16500</MatrixHeight>
</TileMatrix>
<TileMatrix>
<ows:Identifier>8</ows:Identifier>
<ScaleDenominator>1889.8847321501792</ScaleDenominator>
<TopLeftCorner>-5220400.0 4470200.0</TopLeftCorner> <TileWidth>256</TileWidth> <TileHeight>256</TileHeight>
<MatrixWidth>43704</MatrixWidth> <MatrixHeight>32999</MatrixHeight>
</TileMatrix>
<TileMatrix>
<ows:Identifier>9</ows:Identifier>
<ScaleDenominator>944.9423660750896</ScaleDenominator>
<TopLeftCorner>-5220400.0 4470200.0</TopLeftCorner> <TileWidth>256</TileWidth> <TileHeight>256</TileHeight>
<MatrixWidth>87408</MatrixWidth> <MatrixHeight>65997</MatrixHeight>
</TileMatrix>
<TileMatrix>
<ows:Identifier>10</ows:Identifier>
<ScaleDenominator>472.4711830375448</ScaleDenominator>
<TopLeftCorner>-5220400.0 4470200.0</TopLeftCorner> <TileWidth>256</TileWidth> <TileHeight>256</TileHeight>
<MatrixWidth>174815</MatrixWidth> <MatrixHeight>131994</MatrixHeight>
</TileMatrix>
<TileMatrix>
<ows:Identifier>11</ows:Identifier>
<ScaleDenominator>236.2355915187724</ScaleDenominator>
<TopLeftCorner>-5220400.0 4470200.0</TopLeftCorner> <TileWidth>256</TileWidth> <TileHeight>256</TileHeight>
<MatrixWidth>349630</MatrixWidth> <MatrixHeight>263988</MatrixHeight>
</TileMatrix>
</TileMatrixSet>
</Contents>
<ServiceMetadataURL xlink:href="https://map-services.hambleton.gov.uk/arcgis/rest/services/BaseMaps/BaseMappingWMS_2/MapServer/WMTS/1.0.0/WMTSCapabilities.xml" /> </Capabilities>
